Workbook
Name analysis_period: Inputs!$C$38
Name annual_fuel_usage: Inputs!$C$24
Name AnnualLandLease: Inputs!$D$221
Name AnnualOMCapacity: Inputs!$D$169
Name AnnualOMFixed: Inputs!$D$168
Name AnnualOMProduction: Inputs!$D$170
Name AnnualPBIFederal: Inputs!$D$182
Name AnnualPBIOther: Inputs!$D$185
Name AnnualPBIState: Inputs!$D$183
Name AnnualPBIUtility: Inputs!$D$184
Name AnnualPTCFederal: Inputs!$D$187
Name AnnualPTCState: Inputs!$D$188
Name AnnualTaxFederal: Inputs!$C$173
Name AnnualTaxState: Inputs!$C$172
Name batt_annual_discharge_energy: Inputs!$C$157
Name cbi_fed_amount: Inputs!$C$125
Name cbi_fed_deprbas_fed: Inputs!$G$125
Name cbi_fed_deprbas_sta: Inputs!$H$125
Name cbi_fed_maxvalue: Inputs!$D$125
Name cbi_fed_tax_fed: Inputs!$E$125
Name cbi_fed_tax_sta: Inputs!$F$125
Name cbi_oth_amount: Inputs!$C$128
Name cbi_oth_deprbas_fed: Inputs!$G$128
Name cbi_oth_deprbas_sta: Inputs!$H$128
Name cbi_oth_maxvalue: Inputs!$D$128
Name cbi_oth_tax_fed: Inputs!$E$128
Name cbi_oth_tax_sta: Inputs!$F$128
Name cbi_sta_amount: Inputs!$C$126
Name cbi_sta_deprbas_fed: Inputs!$G$126
Name cbi_sta_deprbas_sta: Inputs!$H$126
Name cbi_sta_maxvalue: Inputs!$D$126
Name cbi_sta_tax_fed: Inputs!$E$126
Name cbi_sta_tax_sta: Inputs!$F$126
Name cbi_uti_amount: Inputs!$C$127
Name cbi_uti_deprbas_fed: Inputs!$G$127
Name cbi_uti_deprbas_sta: Inputs!$H$127
Name cbi_uti_maxvalue: Inputs!$D$127
Name cbi_uti_tax_fed: Inputs!$E$127
Name cbi_uti_tax_sta: Inputs!$F$127
Name cf_annual_cost_lcos: Inputs!$C$218
Name cf_annual_discharge_lcos: Inputs!$C$219
Name cf_battery_replacement_cost: Inputs!$C$195
Name cf_capacity_payment: Inputs!$C$162
Name cf_curtailment_value: Inputs!$C$163
Name cf_disbursement_debtservice: Inputs!$C$213
Name cf_energy_expenses_paid_percent: Inputs!$C$204
Name cf_energy_net: Inputs!$C$155
Name cf_energy_purchases: Inputs!$C$154
Name cf_energy_revenue_retained_percent: Inputs!$C$165
Name cf_energy_sales: Inputs!$C$153
Name cf_energy_value: Inputs!$C$161
Name cf_energy_without_battery: Inputs!$C$156
Name cf_fuelcell_replacement_cost: Inputs!$C$200
Name cf_funding_debtservice: Inputs!$C$212
Name cf_non_energy_expenses: Inputs!$C$203
Name cf_non_energy_revenue: Inputs!$C$166
Name cf_om_capacity1_expense: Inputs!$C$193
Name cf_om_capacity2_expense: Inputs!$C$198
Name cf_om_fixed1_expense: Inputs!$C$192
Name cf_om_fixed2_expense: Inputs!$C$197

Sheet Inputs
B1: Single Owner Inputs
B2: SYSTEM DESIGN | E2: KEY
B3: Nameplate capacity (kW) | C3: 36007.8 | E3: Calculated
E4: Input from SAM
B5: SYSTEM COSTS | E5: Annual values from SAM
B6: Total installed cost ($) | C6: 31916100 | E6: Value depends on option in SAM
B8: OPERATION AND MAINTENANCE COSTS | E8: METRICS
B9: Fixed annual cost ($/yr) | C9: 0 | E9: PPA price, year 1 (¢/kWh) | F9: ='Cash Flow'!C15 -> 8.25
B10: Escalation (% above inflation) | C10: 0 | E10: PPA price escalation (%/yr) | F10: =ppa_escalation -> 0
B11: Fixed cost by capacity ($/kW-yr) | C11: 7.5 | E11: Levelized PPA price nominal (¢/kWh) | F11: ='Cash Flow'!B163 -> 7.217901
B12: Escalation (% above inflation) | C12: 0 | E12: LCOE, nominal (¢/kWh) | F12: ='Cash Flow'!B159 -> 6.8050741
B13: Variable cost by generation ($/MWh) | C13: 0 | E13: NPV ($) | F13: ='Cash Flow'!B150 -> 1652279
B14: Escalation (% above inflation) | C14: 0 | E14: IRR (%) | F14: =HLOOKUP(IF(PPAPriceInput="Calculated",flip_target_year,F15),'Cash Flow'!B2:AP147,144) -> 0
E15: IRR Year | F15: ='Cash Flow'!B148 -> 25
E16: IRR at end of project (%) | F16: =HLOOKUP(analysis_period,'Cash Flow'!B2:AP147,135) -> 0
E17: Total capital cost ($) | F17: =-'Cash Flow'!B113 -> 33242989
B18: LAND LEASE | E18: Equity ($) | F18: =F17-F19 -> 8310747.3
B19: Land area estimate (acres) | C19: 129.062 | E19: Size of debt ($) | F19: ='Cash Flow'!B612 -> 24932242
B20: Annual land lease cost ($/acre) | C20: 0 | E20: Minimum debt service coverage ratio | F20: ='Cash Flow'!B632 -> 1.2608178
B21: Land lease escalation rate (% above inflation) | C21: 0 | E21: Debt fraction (%) | F21: =F19/F17*100 -> 75
B23: FUEL COSTS (CSP AND GENERIC SYSTEMS ONLY)
B24: Annual usage (kWh) | C24: 0
B25: Heat rate (MMBtu/MWh) | C25: 0
B26: Cost ($/MMBtu) | C26: 0
B27: Escalation (%/year above inflation) | C27: 0
B29: Solution Mode and PPA Price
B30: IRR Target | C30: N/A
B31: Target year | C31: 25
B32: PPA price ($/kWh) | C32: 0.0825 | D32: 0.0825 | E32: 0.0825 | F32: 0.0825 | G32: 0.0825 | H32: 0.0825 | I32: 0.0825 | J32: 0.0825 | K32: 0.0825 | L32: 0.0825 | M32: 0.0417 | N32: 0.0417 | O32: 0.0417 | P32: 0.0417 | Q32: 0.0417 | R32: 0.0417 | S32: 0.0417 | T32: 0.0417 | U32: 0.0417 | V32: 0.0417 | W32: 0.0417 | X32: 0.0417 | Y32: 0.0417 | Z32: 0.0417 | AA32: 0.0417 | AB32: 0.0417 | AC32: 0.0417 | AD32: 0.0417 | AE32: 0.0417 | AF32: 0.0417 | AG32: 0 | AH32: 0 | AI32: 0 | AJ32: 0 | AK32: 0 | AL32: 0 | AM32: 0 | AN32: 0 | AO32: 0 | AP32: 0 | AQ32: 0 | AR32: 0 | AS32: 0 | AT32: 0 | AU32: 0 | AV32: 0 | AW32: 0 | AX32: 0 | AY32: 0 | AZ32: 0
B33: PPA price escalation (%/year) | C33: 0
B34: PPA price is modifed by TOD multipliers | C34: No
B36: FINANCIAL PARAMETERS
B37: Analysis Parameters
B38: Analysis period (years, 40 max) | C38: 25
B39: Inflation rate (%/year) | C39: 2.5
B40: Real discount rate (%/year) | C40: 10
B41: Nominal discount rate (%/year) | C41: =((inflation_rate/100+1)*(real_discount_rate/100+1)-1)*100 -> 12.75
B42: Tax and Insurance Rates
B43: Federal income tax rate in Year 1 (%/year) | C43: 0
B44: State income tax rate in Year 1 (%/year) | C44: 0
...

Sheet Cash Flow
A1: Single Owner Cash Flow
A2: Operating Year | B2: 0 | C2: =IF(B2<analysis_period,B2+1,"") -> 1 | D2: =IF(C2<analysis_period,C2+1,"") -> 2 | E2: =IF(D2<analysis_period,D2+1,"") -> 3 | F2: =IF(E2<analysis_period,E2+1,"") -> 4 | G2: =IF(F2<analysis_period,F2+1,"") -> 5 | H2: =IF(G2<analysis_period,G2+1,"") -> 6 | I2: =IF(H2<analysis_period,H2+1,"") -> 7 | J2: =IF(I2<analysis_period,I2+1,"") -> 8 | ... AP2: =IF(AO2<analysis_period,AO2+1,"")
A4: Energy
A5: Electricity to grid (AC kWh) | B5: {=Inputs!C153:AQ153} -> 0 | C5: 55524700 | D5: 55245500 | E5: 54974100 | F5: 54702700 | G5: 54429700 | H5: 54154400 | I5: 53877600 | J5: 53599400 | K5: 53319700 | L5: 53008400 | M5: 52724300 | N5: 52443100 | O5: 52162700 | P5: 51882200 | Q5: 51601300 | R5: 51320000 | S5: 51038500 | T5: 50756800 | U5: 50475000 | V5: 50159600 | W5: 49874600 | X5: 49593100 | Y5: 49312700 | Z5: 49032200 | AA5: 48751300 | AB5: 0 | AC5: 0 | AD5: 0 | AE5: 0 | AF5: 0 | AG5: 0 | AH5: 0 | AI5: 0 | AJ5: 0 | AK5: 0 | AL5: 0 | AM5: 0 | AN5: 0 | AO5: 0 | AP5: 0
A6: Electricity from grid (AC kWh) | B6: {=Inputs!C154:AQ154} -> 0 | C6: -27012.5 | D6: -27012.5 | E6: -27012.5 | F6: -27012.5 | G6: -27012.5 | H6: -27012.5 | I6: -27012.5 | J6: -27012.5 | K6: -27012.5 | L6: -27012.5 | M6: -27012.5 | N6: -27012.5 | O6: -27012.5 | P6: -27020 | Q6: -27027.6 | R6: -27035.2 | S6: -27042.8 | T6: -27050.3 | U6: -27057.9 | V6: -27065.5 | W6: -27065.5 | X6: -27065.5 | Y6: -27073.1 | Z6: -27088.2 | AA6: -27095.8 | AB6: 0 | AC6: 0 | AD6: 0 | AE6: 0 | AF6: 0 | AG6: 0 | AH6: 0 | AI6: 0 | AJ6: 0 | AK6: 0 | AL6: 0 | AM6: 0 | AN6: 0 | AO6: 0 | AP6: 0
A7: Electricity to grid net (AC kWh) | B7: =SUM(B5:B6) -> 0 | C7: =SUM(C5:C6) -> 55497688 | D7: =SUM(D5:D6) -> 55218488 | E7: =SUM(E5:E6) -> 54947088 | F7: =SUM(F5:F6) -> 54675688 | G7: =SUM(G5:G6) -> 54402688 | H7: =SUM(H5:H6) -> 54127388 | I7: =SUM(I5:I6) -> 53850588 | ... AP7: =SUM(AP5:AP6) -> 0
A8: Electricity generated without storage (AC kWh) | B8: {=Inputs!C156:AQ158} -> 0 | C8: 55928300 | D8: 55654300 | E8: 55379500 | F8: 55103500 | G8: 54826000 | H8: 54546600 | I8: 54266000 | J8: 53984300 | K8: 53701200 | L8: 53417300 | M8: 53133100 | N8: 52848500 | O8: 52563500 | P8: 52278400 | Q8: 51993400 | R8: 51708400 | S8: 51423400 | T8: 51138400 | U8: 50853300 | V8: 50568300 | W8: 50283300 | X8: 49998400 | Y8: 49713400 | Z8: 49428400 | AA8: 49143400 | AB8: 0 | AC8: 0 | AD8: 0 | AE8: 0 | AF8: 0 | AG8: 0 | AH8: 0 | AI8: 0 | AJ8: 0 | AK8: 0 | AL8: 0 | AM8: 0 | AN8: 0 | AO8: 0 | AP8: 0
A9: Battery annual energy discharged (AC kWh) | B9: 0 | C9: 3828780 | D9: 3819060 | E9: 3771420 | F9: 3726630 | G9: 3686660 | H9: 3649930 | I9: 3615600 | J9: 3583100 | K9: 3552090 | L9: 3828780 | M9: 3819000 | N9: 3771330 | O9: 3726560 | P9: 3686590 | Q9: 3649880 | R9: 3615540 | S9: 3583050 | T9: 3552040 | U9: 3522260 | V9: 3828780 | W9: 3819010 | X9: 3771340 | Y9: 3726560 | Z9: 3686590 | AA9: 3649880 | AB9: 0 | AC9: 0 | AD9: 0 | AE9: 0 | AF9: 0 | AG9: 0 | AH9: 0 | AI9: 0 | AJ9: 0 | AK9: 0 | AL9: 0 | AM9: 0 | AN9: 0 | AO9: 0 | AP9: 0
A10: Fuel cell annual energy discharged (AC kWh) | B10: 0 | C10: 0 | D10: 0 | E10: 0 | F10: 0 | G10: 0 | H10: 0 | I10: 0 | J10: 0 | K10: 0 | L10: 0 | M10: 0 | N10: 0 | O10: 0 | P10: 0 | Q10: 0 | R10: 0 | S10: 0 | T10: 0 | U10: 0 | V10: 0 | W10: 0 | X10: 0 | Y10: 0 | Z10: 0 | AA10: 0 | AB10: 0 | AC10: 0 | AD10: 0 | AE10: 0 | AF10: 0 | AG10: 0 | AH10: 0 | AI10: 0 | AJ10: 0 | AK10: 0 | AL10: 0 | AM10: 0 | AN10: 0 | AO10: 0 | AP10: 0
A12: Revenue
A13: PPA revenue
A14: Net production (AC kWh) | C14: =C5 -> 55524700 | D14: =D5 -> 55245500 | E14: =E5 -> 54974100 | F14: =F5 -> 54702700 | G14: =G5 -> 54429700 | H14: =H5 -> 54154400 | I14: =I5 -> 53877600 | J14: =J5 -> 53599400 | ... AP14: =AP5 -> 0
A15: Price (¢/kWh) | B15: {=Inputs!C160:AQ160} -> 0 | C15: 8.25 | D15: 8.25 | E15: 8.25 | F15: 8.25 | G15: 8.25 | H15: 8.25 | I15: 8.25 | J15: 8.25 | K15: 8.25 | L15: 8.25 | M15: 4.17 | N15: 4.17 | O15: 4.17 | P15: 4.17 | Q15: 4.17 | R15: 4.17 | S15: 4.17 | T15: 4.17 | U15: 4.17 | V15: 4.17 | W15: 4.17 | X15: 4.17 | Y15: 4.17 | Z15: 4.17 | AA15: 4.17 | AB15: 0 | AC15: 0 | AD15: 0 | AE15: 0 | AF15: 0 | AG15: 0 | AH15: 0 | AI15: 0 | AJ15: 0 | AK15: 0 | AL15: 0 | AM15: 0 | AN15: 0 | AO15: 0 | AP15: 0
A16: PPA revenue (TOD multipliers may apply) | B16: {=Inputs!C161:AQ161} -> 0 | C16: 4580780 | D16: 4557750 | E16: 4535360 | F16: 4512970 | G16: 4490450 | H16: 4467740 | I16: 4444900 | J16: 4421950 | K16: 4398870 | L16: 4373200 | M16: 2198600 | N16: 2186880 | O16: 2175180 | P16: 2163490 | Q16: 2151770 | R16: 2140050 | S16: 2128310 | T16: 2116560 | U16: 2104810 | V16: 2091650 | W16: 2079770 | X16: 2068030 | Y16: 2056340 | Z16: 2044640 | AA16: 2032930 | AB16: 0 | AC16: 0 | AD16: 0 | AE16: 0 | AF16: 0 | AG16: 0 | AH16: 0 | AI16: 0 | AJ16: 0 | AK16: 0 | AL16: 0 | AM16: 0 | AN16: 0 | AO16: 0 | AP16: 0
A17: Other revenue
A18: Capacity payments | B18: {=Inputs!C162:AQ164} -> 0 | C18: 0 | D18: 0 | E18: 0 | F18: 0 | G18: 0 | H18: 0 | I18: 0 | J18: 0 | K18: 0 | L18: 0 | M18: 0 | N18: 0 | O18: 0 | P18: 0 | Q18: 0 | R18: 0 | S18: 0 | T18: 0 | U18: 0 | V18: 0 | W18: 0 | X18: 0 | Y18: 0 | Z18: 0 | AA18: 0 | AB18: 0 | AC18: 0 | AD18: 0 | AE18: 0 | AF18: 0 | AG18: 0 | AH18: 0 | AI18: 0 | AJ18: 0 | AK18: 0 | AL18: 0 | AM18: 0 | AN18: 0 | AO18: 0 | AP18: 0
A19: Curtailment payments | B19: 0 | C19: 0 | D19: 0 | E19: 0 | F19: 0 | G19: 0 | H19: 0 | I19: 0 | J19: 0 | K19: 0 | L19: 0 | M19: 0 | N19: 0 | O19: 0 | P19: 0 | Q19: 0 | R19: 0 | S19: 0 | T19: 0 | U19: 0 | V19: 0 | W19: 0 | X19: 0 | Y19: 0 | Z19: 0 | AA19: 0 | AB19: 0 | AC19: 0 | AD19: 0 | AE19: 0 | AF19: 0 | AG19: 0 | AH19: 0 | AI19: 0 | AJ19: 0 | AK19: 0 | AL19: 0 | AM19: 0 | AN19: 0 | AO19: 0 | AP19: 0
A20: Thermal revenue (fuel cell only) | B20: 0 | C20: 0 | D20: 0 | E20: 0 | F20: 0 | G20: 0 | H20: 0 | I20: 0 | J20: 0 | K20: 0 | L20: 0 | M20: 0 | N20: 0 | O20: 0 | P20: 0 | Q20: 0 | R20: 0 | S20: 0 | T20: 0 | U20: 0 | V20: 0 | W20: 0 | X20: 0 | Y20: 0 | Z20: 0 | AA20: 0 | AB20: 0 | AC20: 0 | AD20: 0 | AE20: 0 | AF20: 0 | AG20: 0 | AH20: 0 | AI20: 0 | AJ20: 0 | AK20: 0 | AL20: 0 | AM20: 0 | AN20: 0 | AO20: 0 | AP20: 0
A21: Energy revenue | B21: =SUM(B16:B20) -> 0 | C21: =SUM(C16:C20) -> 4580780 | D21: =SUM(D16:D20) -> 4557750 | E21: =SUM(E16:E20) -> 4535360 | F21: =SUM(F16:F20) -> 4512970 | G21: =SUM(G16:G20) -> 4490450 | H21: =SUM(H16:H20) -> 4467740 | I21: =SUM(I16:I20) -> 4444900 | ... AP21: =SUM(AP16:AP20) -> 0
A22: Percent of energy revenue retained (%) | B22: {=Inputs!C165:AQ165} -> 0 | C22: 100 | D22: 100 | E22: 100 | F22: 100 | G22: 100 | H22: 100 | I22: 100 | J22: 100 | K22: 100 | L22: 100 | M22: 100 | N22: 100 | O22: 100 | P22: 100 | Q22: 100 | R22: 100 | S22: 100 | T22: 100 | U22: 100 | V22: 100 | W22: 100 | X22: 100 | Y22: 100 | Z22: 100 | AA22: 100 | AB22: 0 | AC22: 0 | AD22: 0 | AE22: 0 | AF22: 0 | AG22: 0 | AH22: 0 | AI22: 0 | AJ22: 0 | AK22: 0 | AL22: 0 | AM22: 0 | AN22: 0 | AO22: 0 | AP22: 0
A23: Energy revenue retained | B23: =B21*B22/100 -> 0 | C23: =C21*C22/100 -> 4580780 | D23: =D21*D22/100 -> 4557750 | E23: =E21*E22/100 -> 4535360 | F23: =F21*F22/100 -> 4512970 | G23: =G21*G22/100 -> 4490450 | H23: =H21*H22/100 -> 4467740 | I23: =I21*I22/100 -> 4444900 | ... AP23: =AP21*AP22/100 -> 0
A25: Production Based Incentive (included if available for debt service)
A26: Federal | C26: =IF(pbi_fed_for_ds="Yes",C591,0) -> 0 | D26: =IF(pbi_fed_for_ds="Yes",D591,0) -> 0 | E26: =IF(pbi_fed_for_ds="Yes",E591,0) -> 0 | F26: =IF(pbi_fed_for_ds="Yes",F591,0) -> 0 | G26: =IF(pbi_fed_for_ds="Yes",G591,0) -> 0 | H26: =IF(pbi_fed_for_ds="Yes",H591,0) -> 0 | I26: =IF(pbi_fed_for_ds="Yes",I591,0) -> 0 | J26: =IF(pbi_fed_for_ds="Yes",J591,0) -> 0 | ... AP26: =IF(pbi_fed_for_ds="Yes",AP591,0) -> 0
A27: State | C27: =IF(pbi_sta_for_ds="Yes",C595,0) -> 0 | D27: =IF(pbi_sta_for_ds="Yes",D595,0) -> 0 | E27: =IF(pbi_sta_for_ds="Yes",E595,0) -> 0 | F27: =IF(pbi_sta_for_ds="Yes",F595,0) -> 0 | G27: =IF(pbi_sta_for_ds="Yes",G595,0) -> 0 | H27: =IF(pbi_sta_for_ds="Yes",H595,0) -> 0 | I27: =IF(pbi_sta_for_ds="Yes",I595,0) -> 0 | J27: =IF(pbi_sta_for_ds="Yes",J595,0) -> 0 | ... AP27: =IF(pbi_sta_for_ds="Yes",AP595,0) -> 0
A28: Utility | C28: =IF(pbi_uti_for_ds="Yes",C599,0) -> 0 | D28: =IF(pbi_uti_for_ds="Yes",D599,0) -> 0 | E28: =IF(pbi_uti_for_ds="Yes",E599,0) -> 0 | F28: =IF(pbi_uti_for_ds="Yes",F599,0) -> 0 | G28: =IF(pbi_uti_for_ds="Yes",G599,0) -> 0 | H28: =IF(pbi_uti_for_ds="Yes",H599,0) -> 0 | I28: =IF(pbi_uti_for_ds="Yes",I599,0) -> 0 | J28: =IF(pbi_uti_for_ds="Yes",J599,0) -> 0 | ... AP28: =IF(pbi_uti_for_ds="Yes",AP599,0) -> 0
A29: Other | C29: =IF(pbi_oth_for_ds="Yes",C603,0) -> 0 | D29: =IF(pbi_oth_for_ds="Yes",D603,0) -> 0 | E29: =IF(pbi_oth_for_ds="Yes",E603,0) -> 0 | F29: =IF(pbi_oth_for_ds="Yes",F603,0) -> 0 | G29: =IF(pbi_oth_for_ds="Yes",G603,0) -> 0 | H29: =IF(pbi_oth_for_ds="Yes",H603,0) -> 0 | I29: =IF(pbi_oth_for_ds="Yes",I603,0) -> 0 | J29: =IF(pbi_oth_for_ds="Yes",J603,0) -> 0 | ... AP29: =IF(pbi_oth_for_ds="Yes",AP603,0) -> 0
A30: Total PBI | C30: =SUM(C26:C29) -> 0 | D30: =SUM(D26:D29) -> 0 | E30: =SUM(E26:E29) -> 0 | F30: =SUM(F26:F29) -> 0 | G30: =SUM(G26:G29) -> 0 | H30: =SUM(H26:H29) -> 0 | I30: =SUM(I26:I29) -> 0 | J30: =SUM(J26:J29) -> 0 | ... AP30: =SUM(AP26:AP29) -> 0
A31: Salvage value | C31: =IF(C2=analysis_period,total_installed_cost*salvage_percentage/100,0) -> 0 | D31: =IF(D2=analysis_period,total_installed_cost*salvage_percentage/100,0) -> 0 | E31: =IF(E2=analysis_period,total_installed_cost*salvage_percentage/100,0) -> 0 | F31: =IF(F2=analysis_period,total_installed_cost*salvage_percentage/100,0) -> 0 | G31: =IF(G2=analysis_period,total_installed_cost*salvage_percentage/100,0) -> 0 | H31: =IF(H2=analysis_period,total_installed_cost*salvage_percentage/100,0) -> 0 | I31: =IF(I2=analysis_period,total_installed_cost*salvage_percentage/100,0) -> 0 | J31: =IF(J2=analysis_period,total_installed_cost*salvage_percentage/100,0) -> 0 | ... AP31: =IF(AP2=analysis_period,total_installed_cost*salvage_percentage/100,0) -> 0
A32: Owner share of non-energy revenue (included if available for debt service) | C32: =IF(non_energy_revenue_ds="Yes",Inputs!D166,0) -> 0 | D32: =IF(non_energy_revenue_ds="Yes",Inputs!E166,0) -> 0 | E32: =IF(non_energy_revenue_ds="Yes",Inputs!F166,0) -> 0 | F32: =IF(non_energy_revenue_ds="Yes",Inputs!G166,0) -> 0 | G32: =IF(non_energy_revenue_ds="Yes",Inputs!H166,0) -> 0 | H32: =IF(non_energy_revenue_ds="Yes",Inputs!I166,0) -> 0 | I32: =IF(non_energy_revenue_ds="Yes",Inputs!J166,0) -> 0 | J32: =IF(non_energy_revenue_ds="Yes",Inputs!K166,0) -> 0 | ... AP32: =IF(non_energy_revenue_ds="Yes",Inputs!AQ166,0) -> 0
A33: Total Revenue | C33: =IF(C2<=analysis_period,C$23+C$30+C$31+C$32,0) -> 4580780 | D33: =IF(D2<=analysis_period,D$23+D$30+D$31+D$32,0) -> 4557750 | E33: =IF(E2<=analysis_period,E$23+E$30+E$31+E$32,0) -> 4535360 | F33: =IF(F2<=analysis_period,F$23+F$30+F$31+F$32,0) -> 4512970 | G33: =IF(G2<=analysis_period,G$23+G$30+G$31+G$32,0) -> 4490450 | H33: =IF(H2<=analysis_period,H$23+H$30+H$31+H$32,0) -> 4467740 | I33: =IF(I2<=analysis_period,I$23+I$30+I$31+I$32,0) -> 4444900 | J33: =IF(J2<=analysis_period,J$23+J$30+J$31+J$32,0) -> 4421950 | ... AP33: =IF(AP2<=analysis_period,AP$23+AP$30+AP$31+AP$32,0) -> 0
A35: Property tax net assessed value | C35: =PropertyTaxAssessedValue -> 31916100 | D35: =IF(D$2<=analysis_period,PropertyTaxAssessedValue*(100-(D$2-1)*prop_tax_assessed_decline)/100,0) -> 31916100 | E35: =IF(E$2<=analysis_period,PropertyTaxAssessedValue*(100-(E$2-1)*prop_tax_assessed_decline)/100,0) -> 31916100 | F35: =IF(F$2<=analysis_period,PropertyTaxAssessedValue*(100-(F$2-1)*prop_tax_assessed_decline)/100,0) -> 31916100 | G35: =IF(G$2<=analysis_period,PropertyTaxAssessedValue*(100-(G$2-1)*prop_tax_assessed_decline)/100,0) -> 31916100 | H35: =IF(H$2<=analysis_period,PropertyTaxAssessedValue*(100-(H$2-1)*prop_tax_assessed_decline)/100,0) -> 31916100 | I35: =IF(I$2<=analysis_period,PropertyTaxAssessedValue*(100-(I$2-1)*prop_tax_assessed_decline)/100,0) -> 31916100 | J35: =IF(J$2<=analysis_period,PropertyTaxAssessedValue*(100-(J$2-1)*prop_tax_assessed_decline)/100,0) -> 31916100 | K35: =IF(K$2<=analysis_period,PropertyTaxAssessedValue*(100-(K$2-1)*prop_tax_assessed_decline)/100,0) -> 31916100 | ... AP35: =IF(AP$2<=analysis_period,PropertyTaxAssessedValue*(100-(AP$2-1)*prop_tax_assessed_decline)/100,0) -> 0
A37: Operating Expenses
A38: Operation and maintenance (O&M)
A39: Fixed | C39: =IF(C$2<=analysis_period,IF(om_fixed="n/a",Inputs!D168,om_fixed*(1+inflation_rate/100+om_fixed_escal/100)^B$2),0) -> 0 | D39: =IF(D$2<=analysis_period,IF(om_fixed="n/a",Inputs!E168,om_fixed*(1+inflation_rate/100+om_fixed_escal/100)^C$2),0) -> 0 | E39: =IF(E$2<=analysis_period,IF(om_fixed="n/a",Inputs!F168,om_fixed*(1+inflation_rate/100+om_fixed_escal/100)^D$2),0) -> 0 | F39: =IF(F$2<=analysis_period,IF(om_fixed="n/a",Inputs!G168,om_fixed*(1+inflation_rate/100+om_fixed_escal/100)^E$2),0) -> 0 | G39: =IF(G$2<=analysis_period,IF(om_fixed="n/a",Inputs!H168,om_fixed*(1+inflation_rate/100+om_fixed_escal/100)^F$2),0) -> 0 | H39: =IF(H$2<=analysis_period,IF(om_fixed="n/a",Inputs!I168,om_fixed*(1+inflation_rate/100+om_fixed_escal/100)^G$2),0) -> 0 | I39: =IF(I$2<=analysis_period,IF(om_fixed="n/a",Inputs!J168,om_fixed*(1+inflation_rate/100+om_fixed_escal/100)^H$2),0) -> 0 | J39: =IF(J$2<=analysis_period,IF(om_fixed="n/a",Inputs!K168,om_fixed*(1+inflation_rate/100+om_fixed_escal/100)^I$2),0) -> 0 | ... AP39: =IF(AP$2<=analysis_period,IF(om_fixed="n/a",Inputs!AQ168,om_fixed*(1+inflation_rate/100+om_fixed_escal/100)^AO$2),0) -> 0
A40: Capacity
A41: Capacity (DC kW) | C41: =IF(C$2<=analysis_period,system_capacity,0) -> 36007.8 | D41: =IF(D$2<=analysis_period,system_capacity,0) -> 36007.8 | E41: =IF(E$2<=analysis_period,system_capacity,0) -> 36007.8 | F41: =IF(F$2<=analysis_period,system_capacity,0) -> 36007.8 | G41: =IF(G$2<=analysis_period,system_capacity,0) -> 36007.8 | H41: =IF(H$2<=analysis_period,system_capacity,0) -> 36007.8 | I41: =IF(I$2<=analysis_period,system_capacity,0) -> 36007.8 | J41: =IF(J$2<=analysis_period,system_capacity,0) -> 36007.8 | ... AP41: =IF(AP$2<=analysis_period,system_capacity,0) -> 0
A42: Fixed Cost ($/DC kW-yr) | C42: =IF(C$2<=analysis_period,IF(om_capacity="n/a",Inputs!D169,om_capacity*(1+inflation_rate/100+om_capacity_escal/100)^B$2),0) -> 7.5 | D42: =IF(D$2<=analysis_period,IF(om_capacity="n/a",Inputs!E169,om_capacity*(1+inflation_rate/100+om_capacity_escal/100)^C$2),0) -> 7.6875 | E42: =IF(E$2<=analysis_period,IF(om_capacity="n/a",Inputs!F169,om_capacity*(1+inflation_rate/100+om_capacity_escal/100)^D$2),0) -> 7.8796875 | F42: =IF(F$2<=analysis_period,IF(om_capacity="n/a",Inputs!G169,om_capacity*(1+inflation_rate/100+om_capacity_escal/100)^E$2),0) -> 8.0766797 | G42: =IF(G$2<=analysis_period,IF(om_capacity="n/a",Inputs!H169,om_capacity*(1+inflation_rate/100+om_capacity_escal/100)^F$2),0) -> 8.2785967 | H42: =IF(H$2<=analysis_period,IF(om_capacity="n/a",Inputs!I169,om_capacity*(1+inflation_rate/100+om_capacity_escal/100)^G$2),0) -> 8.4855616 | I42: =IF(I$2<=analysis_period,IF(om_capacity="n/a",Inputs!J169,om_capacity*(1+inflation_rate/100+om_capacity_escal/100)^H$2),0) -> 8.6977006 | J42: =IF(J$2<=analysis_period,IF(om_capacity="n/a",Inputs!K169,om_capacity*(1+inflation_rate/100+om_capacity_escal/100)^I$2),0) -> 8.9151432 | ... AP42: =IF(AP$2<=analysis_period,IF(om_capacity="n/a",Inputs!AQ169,om_capacity*(1+inflation_rate/100+om_capacity_escal/100)^AO$2),0) -> 0
A43: O&M capacity-based expense | C43: =C41*C42 -> 270058.5 | D43: =D41*D42 -> 276809.96 | E43: =E41*E42 -> 283730.21 | F43: =F41*F42 -> 290823.47 | G43: =G41*G42 -> 298094.05 | H43: =H41*H42 -> 305546.4 | I43: =I41*I42 -> 313185.06 | J43: =J41*J42 -> 321014.69 | ... AP43: =AP41*AP42 -> 0
A44: Variable
A45: Generation (AC-MWh) | C45: =IF(C$8=0,C$5,C$8)/1000 -> 55928.3 | D45: =IF(D$8=0,D$5,D$8)/1000 -> 55654.3 | E45: =IF(E$8=0,E$5,E$8)/1000 -> 55379.5 | F45: =IF(F$8=0,F$5,F$8)/1000 -> 55103.5 | G45: =IF(G$8=0,G$5,G$8)/1000 -> 54826 | H45: =IF(H$8=0,H$5,H$8)/1000 -> 54546.6 | I45: =IF(I$8=0,I$5,I$8)/1000 -> 54266 | J45: =IF(J$8=0,J$5,J$8)/1000 -> 53984.3 | ... AP45: =IF(AP$8=0,AP$5,AP$8)/1000 -> 0
...

Sheet Depreciation Schedules
A1: Depreciation Schedules (Half Year)
A2: Year | B2: 5-yr MACRS | C2: 15-yr MACRS | D2: 5-yr SL | E2: 15-yr SL | F2: 20-yr SL | G2: 39-yr SL
A3: 1 | B3: 20 | C3: 5 | D3: 10 | E3: 3.33 | F3: 2.5 | G3: =2.56410256410256*0.5 -> 1.2820513
A4: 2 | B4: 32 | C4: 9.5 | D4: 20 | E4: 6.67 | F4: 5 | G4: 2.5641026
A5: 3 | B5: 19.2 | C5: 8.55 | D5: 20 | E5: 6.67 | F5: 5 | G5: 2.5641026
A6: 4 | B6: 11.52 | C6: 7.7 | D6: 20 | E6: 6.67 | F6: 5 | G6: 2.5641026
A7: 5 | B7: 11.52 | C7: 6.93 | D7: 20 | E7: 6.67 | F7: 5 | G7: 2.5641026
A8: 6 | B8: 5.76 | C8: 6.23 | D8: 10 | E8: 6.67 | F8: 5 | G8: 2.5641026
A9: 7 | B9: 0 | C9: 5.9 | D9: 0 | E9: 6.67 | F9: 5 | G9: 2.5641026
A10: 8 | B10: 0 | C10: 5.9 | D10: 0 | E10: 6.67 | F10: 5 | G10: 2.5641026
A11: 9 | B11: 0 | C11: 5.91 | D11: 0 | E11: 6.67 | F11: 5 | G11: 2.5641026
A12: 10 | B12: 0 | C12: 5.9 | D12: 0 | E12: 6.67 | F12: 5 | G12: 2.5641026
A13: 11 | B13: 0 | C13: 5.91 | D13: 0 | E13: 6.67 | F13: 5 | G13: 2.5641026
A14: 12 | B14: 0 | C14: 5.9 | D14: 0 | E14: 6.66 | F14: 5 | G14: 2.5641026
A15: 13 | B15: 0 | C15: 5.91 | D15: 0 | E15: 6.67 | F15: 5 | G15: 2.5641026
... A41: 39 | B41: 0 | C41: 0 | D41: 0 | E41: 0 | F41: 0 | G41: 2.5641026
A42: 40 | B42: 0 | C42: 0 | D42: 0 | E42: 0 | F42: 0 | G42: =2.56410256410256*0.5 -> 1.2820513
A43: For additional information on depreciation schedules, see IRS publication 946.
A44: http://www.irs.gov/pub/irs-pdf/p946.pdf
A45: * Note custom schedule is defined on Inputs sheet around Row 180
