Workbook

Sheet V6 module ds inverter eff
A1: June 7 2023 | C1: Measured | J1: SAM
C2: W/m2 | D2: deg C | E2: V | F2: A | G2: W | J2: W/m2 | K2: W/m2 | L2: deg C | M2: Varray | N2: A | O2: kW | P2: W
A3: Hour summer | B3: Hour winter | C3: Measured GPOA | D3: Measured Tmod_ref | E3: Measured Vpv_nss | F3: Measured Ipv_nss | G3: Measured Ppv_nss | J3: SAM GPOA | K3: SAM GPOA with shadows | L3: SAM Tarray | M3: SAM Varray | N3: SAM Iarray | O3: SAM Parray | P3: SAM Parray | AB3: Tilt | AC3: 15
A4: 0 | B4: 23 | C4: 0 | D4: 7.4741667 | E4: 0.15641423 | F4: 0.00075202849 | G4: =E4*F4 -> 0.00011762796 | J4: 0 | K4: 0 | L4: 0 | M4: 0 | N4: 0 | O4: 0 | P4: =O4*1000 -> 0 | AB4: Azimuth | AC4: 106 | AD4: -74
A5: 1 | B5: 0 | C5: 0 | D5: 6.5977778 | E5: 0.14945941 | F5: 0.00074905025 | G5: =E5*F5 -> 0.00011195261 | J5: 0 | K5: 0 | L5: 0 | M5: 0 | N5: 0 | O5: 0 | P5: =O5*1000 -> 0 | AB5: Tree 1 | AC5: 15m
A6: 2 | B6: =B5+1 -> 1 | C6: 0 | D6: 7.5524115 | E6: 0.39312303 | F6: 0.00074720843 | G6: =E6*F6 -> 0.00029374484 | J6: 0 | K6: 0 | L6: 0 | M6: 0 | N6: 0 | O6: 0 | P6: =O6*1000 -> 0 | AB6: Inverter eff | AC6: 0.6
A7: 3 | B7: =B6+1 -> 2 | C7: 0 | D7: 7.4333333 | E7: 36.397505 | F7: 0.00061018533 | G7: =E7*F7 -> 0.022209223 | J7: 0 | K7: 0 | L7: 0 | M7: 0 | N7: 0 | O7: 0 | P7: =O7*1000 -> 0
A8: 4 | B8: =B7+1 -> 3 | C8: 1.2387509 | D8: 6.9077777 | E8: 251.53898 | F8: 0.0011675477 | G8: =E8*F8 -> 0.29368376 | J8: 0 | K8: 0 | L8: 0 | M8: 0 | N8: 0 | O8: 0 | P8: =O8*1000 -> 0
A9: 5 | B9: =B8+1 -> 4 | C9: 27.470738 | D9: 8.0894445 | E9: 265.02401 | F9: 0.2162392 | G9: =E9*F9 -> 57.30858 | J9: 55.438 | K9: 36.7647 | L9: 13.926 | M9: 306.659 | N9: =O9*1000/M9 -> 0.20196146 | O9: 0.0619333 | P9: =O9*1000 -> 61.9333
A10: 6 | B10: =B9+1 -> 5 | C10: 244.77359 | D10: 15.334444 | E10: 275.18854 | F10: 0.50030603 | G10: =E10*F10 -> 137.67849 | J10: 261.742 | K10: 149.949 | L10: 19.5239 | M10: 322.319 | N10: =O10*1000/M10 -> 1.2640552 | O10: 0.407429 | P10: =O10*1000 -> 407.429
A11: 7 | B11: =B10+1 -> 6 | C11: 463.24161 | D11: 29.06 | E11: 246.93468 | F11: 3.623069 | G11: =E11*F11 -> 894.66139 | J11: 442.117 | K11: 435.29 | L11: 29.5282 | M11: 318.785 | N11: =O11*1000/M11 -> 3.9333093 | O11: 1.25388 | P11: =O11*1000 -> 1253.88
A12: 8 | B12: =B11+1 -> 7 | C12: 628.21919 | D12: 37.864444 | E12: 241.69626 | F12: 5.7005653 | G12: =E12*F12 -> 1377.8053 | J12: 613.687 | K12: 606.292 | L12: 37.1503 | M12: 309.843 | N12: =O12*1000/M12 -> 5.4805176 | O12: 1.6981 | P12: =O12*1000 -> 1698.1
A13: 9 | B13: =B12+1 -> 8 | C13: 738.3936 | D13: 44.246945 | E13: 234.63401 | F13: 6.892305 | G13: =E13*F13 -> 1617.1691 | J13: 755.715 | K13: 747.66 | L13: 44.2054 | M13: 300.676 | N13: =O13*1000/M13 -> 6.7004683 | O13: 2.01467 | P13: =O13*1000 -> 2014.67
A14: 10 | B14: =B13+1 -> 9 | C14: 816.32397 | D14: 47.554444 | E14: 231.00498 | F14: 7.6776678 | G14: =E14*F14 -> 1773.5795 | J14: 857.171 | K14: 849.086 | L14: 47.1814 | M14: 296.623 | N14: =O14*1000/M14 -> 7.5500888 | O14: 2.23953 | P14: =O14*1000 -> 2239.53
A15: 11 | B15: =B14+1 -> 10 | C15: 855.08595 | D15: 51.367778 | E15: 226.98025 | F15: 8.0011189 | G15: =E15*F15 -> 1816.0959 | J15: 916.099 | K15: 907.944 | L15: 50.9522 | M15: 291.524 | N15: =O15*1000/M15 -> 8.0277782 | O15: 2.34029 | P15: =O15*1000 -> 2340.29
A16: 12 | B16: =B15+1 -> 11 | C16: 855.87129 | D16: 50.986111 | E16: 227.24521 | F16: 7.9696822 | G16: =E16*F16 -> 1811.0721 | J16: 931.451 | K16: 923.634 | L16: 49.449 | M16: 293.447 | N16: =O16*1000/M16 -> 8.1384032 | O16: 2.38819 | P16: =O16*1000 -> 2388.19
A17: 13 | B17: =B16+1 -> 12 | C17: 800.74958 | D17: 51.048055 | E17: 227.88465 | F17: 7.4680859 | G17: =E17*F17 -> 1701.8622 | J17: 897.3 | K17: 889.818 | L17: 50.4141 | M17: 292.293 | N17: =O17*1000/M17 -> 7.8313199 | O17: 2.28904 | P17: =O17*1000 -> 2289.04
A18: 14 | B18: =B17+1 -> 13 | C18: 703.39582 | D18: 48.576111 | E18: 231.50387 | F18: 6.5912949 | G18: =E18*F18 -> 1525.9102 | J18: 817.736 | K18: 810.451 | L18: 49.3621 | M18: 293.829 | N18: =O18*1000/M18 -> 7.1383015 | O18: 2.09744 | P18: =O18*1000 -> 2097.44
A19: 15 | B19: =B18+1 -> 14 | C19: 583.20919 | D19: 42.665 | E19: 238.70599 | F19: 5.3758283 | G19: =E19*F19 -> 1283.2424 | J19: 696.89 | K19: 689.591 | L19: 44.2879 | M19: 300.508 | N19: =O19*1000/M19 -> 6.0878246 | O19: 1.82944 | P19: =O19*1000 -> 1829.44
A20: 16 | B20: =B19+1 -> 15 | C20: 446.64852 | D20: 36.838889 | E20: 243.47839 | F20: 4.008638 | G20: =E20*F20 -> 976.01675 | J20: 557.139 | K20: 550.303 | L20: 40.5189 | M20: 304.959 | N20: =O20*1000/M20 -> 4.8791805 | O20: 1.48795 | P20: =O20*1000 -> 1487.95
... A24: 20 | B24: =B23+1 -> 19 | C24: 23.940484 | D24: 16.0125 | E24: 239.57722 | F24: 0.25496107 | G24: =E24*F24 -> 61.082865 | J24: 29.678 | K24: 27.6165 | L24: 20.361 | M24: 299.496 | N24: =O24*1000/M24 -> 0.24165331 | O24: 0.0723742 | P24: =O24*1000 -> 72.3742
A25: 21 | B25: =B24+1 -> 20 | C25: 3.5403213 | D25: 13.200556 | E25: 236.18765 | F25: 0.076344462 | G25: =E25*F25 -> 18.031619 | J25: 12.7767 | K25: 11.8847 | L25: 18.4476 | M25: 288.105 | N25: 0 | O25: 0.0252603 | P25: =O25*1000 -> 25.2603
A26: 22 | B26: =B25+1 -> 21 | C26: 0 | D26: 10.841111 | E26: 118.97257 | F26: 0.00054112275 | G26: =E26*F26 -> 0.064378766 | J26: 0 | K26: 0 | L26: 0 | M26: 0 | N26: 0 | O26: 0 | P26: =O26*1000 -> 0
A27: 23 | B27: =B26+1 -> 22 | C27: 0 | D27: 9.6377779 | E27: 1.5046919 | F27: 0.00075491799 | G27: =E27*F27 -> 0.001135919 | J27: 0 | K27: 0 | L27: 0 | M27: 0 | N27: 0 | O27: 0 | P27: =O27*1000 -> 0

Sheet V5 module ds shadows tree1 15m
A1: June 7 2023 | C1: Measured | J1: SAM
C2: W/m2 | D2: deg C | E2: V | F2: A | G2: W | J2: W/m2 | K2: W/m2 | L2: deg C | M2: Varray | N2: A | O2: kW | P2: W
A3: Hour summer | B3: Hour winter | C3: Measured GPOA | D3: Measured Tmod_ref | E3: Measured Vpv_nss | F3: Measured Ipv_nss | G3: Measured Ppv_nss | J3: SAM GPOA | K3: SAM GPOA with shadows | L3: SAM Tarray | M3: SAM Varray | N3: SAM Iarray | O3: SAM Parray | P3: SAM Parray | AB3: Tilt | AC3: 15
A4: 0 | B4: 23 | C4: 0 | D4: 7.4741667 | E4: 0.15641423 | F4: 0.00075202849 | G4: =E4*F4 -> 0.00011762796 | J4: 0 | K4: 0 | L4: 0 | M4: 0 | N4: 0 | O4: 0 | P4: =O4*1000 -> 0 | AB4: Azimuth | AC4: 106 | AD4: -74
A5: 1 | B5: 0 | C5: 0 | D5: 6.5977778 | E5: 0.14945941 | F5: 0.00074905025 | G5: =E5*F5 -> 0.00011195261 | J5: 0 | K5: 0 | L5: 0 | M5: 0 | N5: 0 | O5: 0 | P5: =O5*1000 -> 0
A6: 2 | B6: =B5+1 -> 1 | C6: 0 | D6: 7.5524115 | E6: 0.39312303 | F6: 0.00074720843 | G6: =E6*F6 -> 0.00029374484 | J6: 0 | K6: 0 | L6: 0 | M6: 0 | N6: 0 | O6: 0 | P6: =O6*1000 -> 0
A7: 3 | B7: =B6+1 -> 2 | C7: 0 | D7: 7.4333333 | E7: 36.397505 | F7: 0.00061018533 | G7: =E7*F7 -> 0.022209223 | J7: 0 | K7: 0 | L7: 0 | M7: 0 | N7: 0 | O7: 0 | P7: =O7*1000 -> 0
A8: 4 | B8: =B7+1 -> 3 | C8: 1.2387509 | D8: 6.9077777 | E8: 251.53898 | F8: 0.0011675477 | G8: =E8*F8 -> 0.29368376 | J8: 0 | K8: 0 | L8: 0 | M8: 0 | N8: 0 | O8: 0 | P8: =O8*1000 -> 0
A9: 5 | B9: =B8+1 -> 4 | C9: 27.470738 | D9: 8.0894445 | E9: 265.02401 | F9: 0.2162392 | G9: =E9*F9 -> 57.30858 | J9: 55.438 | K9: 36.7647 | L9: 13.926 | M9: 306.659 | N9: =O9*1000/M9 -> 0.20196146 | O9: 0.0619333 | P9: =O9*1000 -> 61.9333
A10: 6 | B10: =B9+1 -> 5 | C10: 244.77359 | D10: 15.334444 | E10: 275.18854 | F10: 0.50030603 | G10: =E10*F10 -> 137.67849 | J10: 261.742 | K10: 149.949 | L10: 19.5239 | M10: 322.319 | N10: =O10*1000/M10 -> 1.2640552 | O10: 0.407429 | P10: =O10*1000 -> 407.429
A11: 7 | B11: =B10+1 -> 6 | C11: 463.24161 | D11: 29.06 | E11: 246.93468 | F11: 3.623069 | G11: =E11*F11 -> 894.66139 | J11: 442.117 | K11: 435.29 | L11: 29.5282 | M11: 318.785 | N11: =O11*1000/M11 -> 3.9333093 | O11: 1.25388 | P11: =O11*1000 -> 1253.88
A12: 8 | B12: =B11+1 -> 7 | C12: 628.21919 | D12: 37.864444 | E12: 241.69626 | F12: 5.7005653 | G12: =E12*F12 -> 1377.8053 | J12: 613.687 | K12: 606.292 | L12: 37.1503 | M12: 309.843 | N12: =O12*1000/M12 -> 5.4805176 | O12: 1.6981 | P12: =O12*1000 -> 1698.1
A13: 9 | B13: =B12+1 -> 8 | C13: 738.3936 | D13: 44.246945 | E13: 234.63401 | F13: 6.892305 | G13: =E13*F13 -> 1617.1691 | J13: 755.715 | K13: 747.66 | L13: 44.2054 | M13: 300.676 | N13: =O13*1000/M13 -> 6.7004683 | O13: 2.01467 | P13: =O13*1000 -> 2014.67
A14: 10 | B14: =B13+1 -> 9 | C14: 816.32397 | D14: 47.554444 | E14: 231.00498 | F14: 7.6776678 | G14: =E14*F14 -> 1773.5795 | J14: 857.171 | K14: 849.086 | L14: 47.1814 | M14: 296.623 | N14: =O14*1000/M14 -> 7.5500888 | O14: 2.23953 | P14: =O14*1000 -> 2239.53
A15: 11 | B15: =B14+1 -> 10 | C15: 855.08595 | D15: 51.367778 | E15: 226.98025 | F15: 8.0011189 | G15: =E15*F15 -> 1816.0959 | J15: 916.099 | K15: 907.944 | L15: 50.9522 | M15: 291.524 | N15: =O15*1000/M15 -> 8.0277782 | O15: 2.34029 | P15: =O15*1000 -> 2340.29
A16: 12 | B16: =B15+1 -> 11 | C16: 855.87129 | D16: 50.986111 | E16: 227.24521 | F16: 7.9696822 | G16: =E16*F16 -> 1811.0721 | J16: 931.451 | K16: 923.634 | L16: 49.449 | M16: 293.447 | N16: =O16*1000/M16 -> 8.1384032 | O16: 2.38819 | P16: =O16*1000 -> 2388.19
A17: 13 | B17: =B16+1 -> 12 | C17: 800.74958 | D17: 51.048055 | E17: 227.88465 | F17: 7.4680859 | G17: =E17*F17 -> 1701.8622 | J17: 897.3 | K17: 889.818 | L17: 50.4141 | M17: 292.293 | N17: =O17*1000/M17 -> 7.8313199 | O17: 2.28904 | P17: =O17*1000 -> 2289.04
A18: 14 | B18: =B17+1 -> 13 | C18: 703.39582 | D18: 48.576111 | E18: 231.50387 | F18: 6.5912949 | G18: =E18*F18 -> 1525.9102 | J18: 817.736 | K18: 810.451 | L18: 49.3621 | M18: 293.829 | N18: =O18*1000/M18 -> 7.1383015 | O18: 2.09744 | P18: =O18*1000 -> 2097.44
A19: 15 | B19: =B18+1 -> 14 | C19: 583.20919 | D19: 42.665 | E19: 238.70599 | F19: 5.3758283 | G19: =E19*F19 -> 1283.2424 | J19: 696.89 | K19: 689.591 | L19: 44.2879 | M19: 300.508 | N19: =O19*1000/M19 -> 6.0878246 | O19: 1.82944 | P19: =O19*1000 -> 1829.44
A20: 16 | B20: =B19+1 -> 15 | C20: 446.64852 | D20: 36.838889 | E20: 243.47839 | F20: 4.008638 | G20: =E20*F20 -> 976.01675 | J20: 557.139 | K20: 550.303 | L20: 40.5189 | M20: 304.959 | N20: =O20*1000/M20 -> 4.8791805 | O20: 1.48795 | P20: =O20*1000 -> 1487.95
... A24: 20 | B24: =B23+1 -> 19 | C24: 23.940484 | D24: 16.0125 | E24: 239.57722 | F24: 0.25496107 | G24: =E24*F24 -> 61.082865 | J24: 29.678 | K24: 27.6165 | L24: 20.361 | M24: 299.496 | N24: =O24*1000/M24 -> 0.24165331 | O24: 0.0723742 | P24: =O24*1000 -> 72.3742
A25: 21 | B25: =B24+1 -> 20 | C25: 3.5403213 | D25: 13.200556 | E25: 236.18765 | F25: 0.076344462 | G25: =E25*F25 -> 18.031619 | J25: 12.7767 | K25: 11.8847 | L25: 18.4476 | M25: 288.105 | N25: 0 | O25: 0.0252603 | P25: =O25*1000 -> 25.2603
A26: 22 | B26: =B25+1 -> 21 | C26: 0 | D26: 10.841111 | E26: 118.97257 | F26: 0.00054112275 | G26: =E26*F26 -> 0.064378766 | J26: 0 | K26: 0 | L26: 0 | M26: 0 | N26: 0 | O26: 0 | P26: =O26*1000 -> 0
A27: 23 | B27: =B26+1 -> 22 | C27: 0 | D27: 9.6377779 | E27: 1.5046919 | F27: 0.00075491799 | G27: =E27*F27 -> 0.001135919 | J27: 0 | K27: 0 | L27: 0 | M27: 0 | N27: 0 | O27: 0 | P27: =O27*1000 -> 0

Sheet V4 V and P x 0.8
A1: June 7 2023 | C1: Measured | J1: SAM
C2: W/m2 | D2: deg C | E2: V | F2: A | G2: W | J2: W/m2 | K2: W/m2 | L2: deg C | M2: Varray | N2: A | O2: kW | P2: W
A3: Hour summer | B3: Hour winter | C3: Measured GPOA | D3: Measured Tmod_ref | E3: Measured Vpv_nss | F3: Measured Ipv_nss | G3: Measured Ppv_nss | J3: SAM GPOA | K3: SAM GPOA with shadows | L3: SAM Tarray | M3: SAM Varray | N3: SAM Iarray | O3: SAM Parray | P3: SAM Parray | AB3: Tilt | AC3: 15
A4: 0 | B4: 23 | C4: 0 | D4: 7.4741667 | E4: 0.15641423 | F4: 0.00075202849 | G4: =E4*F4 -> 0.00011762796 | J4: 0 | K4: 0 | L4: 0 | M4: ='V4 module ds shadows inverter'!M4*0.8 -> 0 | N4: 0 | O4: ='V4 module ds shadows inverter'!O4*0.8 -> 0 | P4: =O4*1000 -> 0 | AB4: Azimuth | AC4: 106 | AD4: -74
A5: 1 | B5: 0 | C5: 0 | D5: 6.5977778 | E5: 0.14945941 | F5: 0.00074905025 | G5: =E5*F5 -> 0.00011195261 | J5: 0 | K5: 0 | L5: 0 | M5: ='V4 module ds shadows inverter'!M5*0.8 -> 0 | N5: 0 | O5: ='V4 module ds shadows inverter'!O5*0.8 -> 0 | P5: =O5*1000 -> 0
A6: 2 | B6: =B5+1 -> 1 | C6: 0 | D6: 7.5524115 | E6: 0.39312303 | F6: 0.00074720843 | G6: =E6*F6 -> 0.00029374484 | J6: 0 | K6: 0 | L6: 0 | M6: ='V4 module ds shadows inverter'!M6*0.8 -> 0 | N6: 0 | O6: ='V4 module ds shadows inverter'!O6*0.8 -> 0 | P6: =O6*1000 -> 0
A7: 3 | B7: =B6+1 -> 2 | C7: 0 | D7: 7.4333333 | E7: 36.397505 | F7: 0.00061018533 | G7: =E7*F7 -> 0.022209223 | J7: 0 | K7: 0 | L7: 0 | M7: ='V4 module ds shadows inverter'!M7*0.8 -> 0 | N7: 0 | O7: ='V4 module ds shadows inverter'!O7*0.8 -> 0 | P7: =O7*1000 -> 0
A8: 4 | B8: =B7+1 -> 3 | C8: 1.2387509 | D8: 6.9077777 | E8: 251.53898 | F8: 0.0011675477 | G8: =E8*F8 -> 0.29368376 | J8: 0 | K8: 0 | L8: 0 | M8: ='V4 module ds shadows inverter'!M8*0.8 -> 0 | N8: 0 | O8: ='V4 module ds shadows inverter'!O8*0.8 -> 0 | P8: =O8*1000 -> 0
A9: 5 | B9: =B8+1 -> 4 | C9: 27.470738 | D9: 8.0894445 | E9: 265.02401 | F9: 0.2162392 | G9: =E9*F9 -> 57.30858 | J9: 55.438 | K9: 36.857 | L9: 13.9288 | M9: ='V4 module ds shadows inverter'!M9*0.8 -> 245.352 | N9: =O9*1000/M9 -> 0.2024784 | O9: ='V4 module ds shadows inverter'!O9*0.8 -> 0.04967848 | P9: =O9*1000 -> 49.67848
A10: 6 | B10: =B9+1 -> 5 | C10: 244.77359 | D10: 15.334444 | E10: 275.18854 | F10: 0.50030603 | G10: =E10*F10 -> 137.67849 | J10: 261.742 | K10: 150.134 | L10: 19.5297 | M10: ='V4 module ds shadows inverter'!M10*0.8 -> 257.8512 | N10: =O10*1000/M10 -> 1.2657036 | O10: ='V4 module ds shadows inverter'!O10*0.8 -> 0.3263632 | P10: =O10*1000 -> 326.3632
A11: 7 | B11: =B10+1 -> 6 | C11: 463.24161 | D11: 29.06 | E11: 246.93468 | F11: 3.623069 | G11: =E11*F11 -> 894.66139 | J11: 442.117 | K11: 435.534 | L11: 29.5355 | M11: ='V4 module ds shadows inverter'!M11*0.8 -> 255.02 | N11: =O11*1000/M11 -> 3.9355031 | O11: ='V4 module ds shadows inverter'!O11*0.8 -> 1.003632 | P11: =O11*1000 -> 1003.632
A12: 8 | B12: =B11+1 -> 7 | C12: 628.21919 | D12: 37.864444 | E12: 241.69626 | F12: 5.7005653 | G12: =E12*F12 -> 1377.8053 | J12: 613.687 | K12: 606.557 | L12: 37.1585 | M12: ='V4 module ds shadows inverter'!M12*0.8 -> 247.8624 | N12: =O12*1000/M12 -> 5.4829454 | O12: ='V4 module ds shadows inverter'!O12*0.8 -> 1.359016 | P12: =O12*1000 -> 1359.016
A13: 9 | B13: =B12+1 -> 8 | C13: 738.3936 | D13: 44.246945 | E13: 234.63401 | F13: 6.892305 | G13: =E13*F13 -> 1617.1691 | J13: 755.715 | K13: 747.948 | L13: 44.2144 | M13: ='V4 module ds shadows inverter'!M13*0.8 -> 240.5296 | N13: =O13*1000/M13 -> 6.7030087 | O13: ='V4 module ds shadows inverter'!O13*0.8 -> 1.612272 | P13: =O13*1000 -> 1612.272
A14: 10 | B14: =B13+1 -> 9 | C14: 816.32397 | D14: 47.554444 | E14: 231.00498 | F14: 7.6776678 | G14: =E14*F14 -> 1773.5795 | J14: 857.171 | K14: 849.375 | L14: 47.19 | M14: ='V4 module ds shadows inverter'!M14*0.8 -> 237.2896 | N14: =O14*1000/M14 -> 7.552594 | O14: ='V4 module ds shadows inverter'!O14*0.8 -> 1.792152 | P14: =O14*1000 -> 1792.152
A15: 11 | B15: =B14+1 -> 10 | C15: 855.08595 | D15: 51.367778 | E15: 226.98025 | F15: 8.0011189 | G15: =E15*F15 -> 1816.0959 | J15: 916.099 | K15: 908.236 | L15: 50.9611 | M15: ='V4 module ds shadows inverter'!M15*0.8 -> 233.208 | N15: =O15*1000/M15 -> 8.0303249 | O15: ='V4 module ds shadows inverter'!O15*0.8 -> 1.872736 | P15: =O15*1000 -> 1872.736
A16: 12 | B16: =B15+1 -> 11 | C16: 855.87129 | D16: 50.986111 | E16: 227.24521 | F16: 7.9696822 | G16: =E16*F16 -> 1811.0721 | J16: 931.451 | K16: 923.913 | L16: 49.4568 | M16: ='V4 module ds shadows inverter'!M16*0.8 -> 234.7536 | N16: =O16*1000/M16 -> 8.1406206 | O16: ='V4 module ds shadows inverter'!O16*0.8 -> 1.91104 | P16: =O16*1000 -> 1911.04
A17: 13 | B17: =B16+1 -> 12 | C17: 800.74958 | D17: 51.048055 | E17: 227.88465 | F17: 7.4680859 | G17: =E17*F17 -> 1701.8622 | J17: 897.3 | K17: 890.086 | L17: 50.4218 | M17: ='V4 module ds shadows inverter'!M17*0.8 -> 233.8232 | N17: =O17*1000/M17 -> 7.8337137 | O17: ='V4 module ds shadows inverter'!O17*0.8 -> 1.831704 | P17: =O17*1000 -> 1831.704
A18: 14 | B18: =B17+1 -> 13 | C18: 703.39582 | D18: 48.576111 | E18: 231.50387 | F18: 6.5912949 | G18: =E18*F18 -> 1525.9102 | J18: 817.736 | K18: 810.712 | L18: 49.3697 | M18: ='V4 module ds shadows inverter'!M18*0.8 -> 235.0552 | N18: =O18*1000/M18 -> 7.1405525 | O18: ='V4 module ds shadows inverter'!O18*0.8 -> 1.678424 | P18: =O18*1000 -> 1678.424
A19: 15 | B19: =B18+1 -> 14 | C19: 583.20919 | D19: 42.665 | E19: 238.70599 | F19: 5.3758283 | G19: =E19*F19 -> 1283.2424 | J19: 696.89 | K19: 689.852 | L19: 44.2955 | M19: ='V4 module ds shadows inverter'!M19*0.8 -> 240.3952 | N19: =O19*1000/M19 -> 6.0901715 | O19: ='V4 module ds shadows inverter'!O19*0.8 -> 1.464048 | P19: =O19*1000 -> 1464.048
A20: 16 | B20: =B19+1 -> 15 | C20: 446.64852 | D20: 36.838889 | E20: 243.47839 | F20: 4.008638 | G20: =E20*F20 -> 976.01675 | J20: 557.139 | K20: 550.548 | L20: 40.5262 | M20: ='V4 module ds shadows inverter'!M20*0.8 -> 243.96 | N20: =O20*1000/M20 -> 4.8813248 | O20: ='V4 module ds shadows inverter'!O20*0.8 -> 1.190848 | P20: =O20*1000 -> 1190.848
... A24: 20 | B24: =B23+1 -> 19 | C24: 23.940484 | D24: 16.0125 | E24: 239.57722 | F24: 0.25496107 | G24: =E24*F24 -> 61.082865 | J24: 29.678 | K24: 27.6902 | L24: 20.3634 | M24: ='V4 module ds shadows inverter'!M24*0.8 -> 239.6264 | N24: =O24*1000/M24 -> 0.24229951 | O24: ='V4 module ds shadows inverter'!O24*0.8 -> 0.05806136 | P24: =O24*1000 -> 58.06136
A25: 21 | B25: =B24+1 -> 20 | C25: 3.5403213 | D25: 13.200556 | E25: 236.18765 | F25: 0.076344462 | G25: =E25*F25 -> 18.031619 | J25: 12.7767 | K25: 11.9166 | L25: 18.4487 | M25: ='V4 module ds shadows inverter'!M25*0.8 -> 230.5128 | N25: 0 | O25: ='V4 module ds shadows inverter'!O25*0.8 -> 0.0202652 | P25: =O25*1000 -> 20.2652
A26: 22 | B26: =B25+1 -> 21 | C26: 0 | D26: 10.841111 | E26: 118.97257 | F26: 0.00054112275 | G26: =E26*F26 -> 0.064378766 | J26: 0 | K26: 0 | L26: 0 | M26: ='V4 module ds shadows inverter'!M26*0.8 -> 0 | N26: 0 | O26: ='V4 module ds shadows inverter'!O26*0.8 -> 0 | P26: =O26*1000 -> 0
A27: 23 | B27: =B26+1 -> 22 | C27: 0 | D27: 9.6377779 | E27: 1.5046919 | F27: 0.00075491799 | G27: =E27*F27 -> 0.001135919 | J27: 0 | K27: 0 | L27: 0 | M27: ='V4 module ds shadows inverter'!M27*0.8 -> 0 | N27: 0 | O27: ='V4 module ds shadows inverter'!O27*0.8 -> 0 | P27: =O27*1000 -> 0

Sheet V4 module ds shadows inverter
A1: June 7 2023 | C1: Measured | J1: SAM
C2: W/m2 | D2: deg C | E2: V | F2: A | G2: W | J2: W/m2 | K2: W/m2 | L2: deg C | M2: Varray | N2: A | O2: kW | P2: W
A3: Hour summer | B3: Hour winter | C3: Measured GPOA | D3: Measured Tmod_ref | E3: Measured Vpv_nss | F3: Measured Ipv_nss | G3: Measured Ppv_nss | J3: SAM GPOA | K3: SAM GPOA with shadows | L3: SAM Tarray | M3: SAM Varray | N3: SAM Iarray | O3: SAM Parray | P3: SAM Parray | AB3: Tilt | AC3: 15
A4: 0 | B4: 23 | C4: 0 | D4: 7.4741667 | E4: 0.15641423 | F4: 0.00075202849 | G4: =E4*F4 -> 0.00011762796 | J4: 0 | K4: 0 | L4: 0 | M4: 0 | N4: 0 | O4: 0 | P4: =O4*1000 -> 0 | AB4: Azimuth | AC4: 106 | AD4: -74
A5: 1 | B5: 0 | C5: 0 | D5: 6.5977778 | E5: 0.14945941 | F5: 0.00074905025 | G5: =E5*F5 -> 0.00011195261 | J5: 0 | K5: 0 | L5: 0 | M5: 0 | N5: 0 | O5: 0 | P5: =O5*1000 -> 0
A6: 2 | B6: =B5+1 -> 1 | C6: 0 | D6: 7.5524115 | E6: 0.39312303 | F6: 0.00074720843 | G6: =E6*F6 -> 0.00029374484 | J6: 0 | K6: 0 | L6: 0 | M6: 0 | N6: 0 | O6: 0 | P6: =O6*1000 -> 0
A7: 3 | B7: =B6+1 -> 2 | C7: 0 | D7: 7.4333333 | E7: 36.397505 | F7: 0.00061018533 | G7: =E7*F7 -> 0.022209223 | J7: 0 | K7: 0 | L7: 0 | M7: 0 | N7: 0 | O7: 0 | P7: =O7*1000 -> 0
A8: 4 | B8: =B7+1 -> 3 | C8: 1.2387509 | D8: 6.9077777 | E8: 251.53898 | F8: 0.0011675477 | G8: =E8*F8 -> 0.29368376 | J8: 0 | K8: 0 | L8: 0 | M8: 0 | N8: 0 | O8: 0 | P8: =O8*1000 -> 0
A9: 5 | B9: =B8+1 -> 4 | C9: 27.470738 | D9: 8.0894445 | E9: 265.02401 | F9: 0.2162392 | G9: =E9*F9 -> 57.30858 | J9: 55.438 | K9: 36.857 | L9: 13.9288 | M9: 306.69 | N9: =O9*1000/M9 -> 0.2024784 | O9: 0.0620981 | P9: =O9*1000 -> 62.0981
A10: 6 | B10: =B9+1 -> 5 | C10: 244.77359 | D10: 15.334444 | E10: 275.18854 | F10: 0.50030603 | G10: =E10*F10 -> 137.67849 | J10: 261.742 | K10: 150.134 | L10: 19.5297 | M10: 322.314 | N10: =O10*1000/M10 -> 1.2657036 | O10: 0.407954 | P10: =O10*1000 -> 407.954
A11: 7 | B11: =B10+1 -> 6 | C11: 463.24161 | D11: 29.06 | E11: 246.93468 | F11: 3.623069 | G11: =E11*F11 -> 894.66139 | J11: 442.117 | K11: 435.534 | L11: 29.5355 | M11: 318.775 | N11: =O11*1000/M11 -> 3.9355031 | O11: 1.25454 | P11: =O11*1000 -> 1254.54
A12: 8 | B12: =B11+1 -> 7 | C12: 628.21919 | D12: 37.864444 | E12: 241.69626 | F12: 5.7005653 | G12: =E12*F12 -> 1377.8053 | J12: 613.687 | K12: 606.557 | L12: 37.1585 | M12: 309.828 | N12: =O12*1000/M12 -> 5.4829454 | O12: 1.69877 | P12: =O12*1000 -> 1698.77
A13: 9 | B13: =B12+1 -> 8 | C13: 738.3936 | D13: 44.246945 | E13: 234.63401 | F13: 6.892305 | G13: =E13*F13 -> 1617.1691 | J13: 755.715 | K13: 747.948 | L13: 44.2144 | M13: 300.662 | N13: =O13*1000/M13 -> 6.7030087 | O13: 2.01534 | P13: =O13*1000 -> 2015.34
A14: 10 | B14: =B13+1 -> 9 | C14: 816.32397 | D14: 47.554444 | E14: 231.00498 | F14: 7.6776678 | G14: =E14*F14 -> 1773.5795 | J14: 857.171 | K14: 849.375 | L14: 47.19 | M14: 296.612 | N14: =O14*1000/M14 -> 7.552594 | O14: 2.24019 | P14: =O14*1000 -> 2240.19
A15: 11 | B15: =B14+1 -> 10 | C15: 855.08595 | D15: 51.367778 | E15: 226.98025 | F15: 8.0011189 | G15: =E15*F15 -> 1816.0959 | J15: 916.099 | K15: 908.236 | L15: 50.9611 | M15: 291.51 | N15: =O15*1000/M15 -> 8.0303249 | O15: 2.34092 | P15: =O15*1000 -> 2340.92
A16: 12 | B16: =B15+1 -> 11 | C16: 855.87129 | D16: 50.986111 | E16: 227.24521 | F16: 7.9696822 | G16: =E16*F16 -> 1811.0721 | J16: 931.451 | K16: 923.913 | L16: 49.4568 | M16: 293.442 | N16: =O16*1000/M16 -> 8.1406206 | O16: 2.3888 | P16: =O16*1000 -> 2388.8
A17: 13 | B17: =B16+1 -> 12 | C17: 800.74958 | D17: 51.048055 | E17: 227.88465 | F17: 7.4680859 | G17: =E17*F17 -> 1701.8622 | J17: 897.3 | K17: 890.086 | L17: 50.4218 | M17: 292.279 | N17: =O17*1000/M17 -> 7.8337137 | O17: 2.28963 | P17: =O17*1000 -> 2289.63
A18: 14 | B18: =B17+1 -> 13 | C18: 703.39582 | D18: 48.576111 | E18: 231.50387 | F18: 6.5912949 | G18: =E18*F18 -> 1525.9102 | J18: 817.736 | K18: 810.712 | L18: 49.3697 | M18: 293.819 | N18: =O18*1000/M18 -> 7.1405525 | O18: 2.09803 | P18: =O18*1000 -> 2098.03
A19: 15 | B19: =B18+1 -> 14 | C19: 583.20919 | D19: 42.665 | E19: 238.70599 | F19: 5.3758283 | G19: =E19*F19 -> 1283.2424 | J19: 696.89 | K19: 689.852 | L19: 44.2955 | M19: 300.494 | N19: =O19*1000/M19 -> 6.0901715 | O19: 1.83006 | P19: =O19*1000 -> 1830.06
A20: 16 | B20: =B19+1 -> 15 | C20: 446.64852 | D20: 36.838889 | E20: 243.47839 | F20: 4.008638 | G20: =E20*F20 -> 976.01675 | J20: 557.139 | K20: 550.548 | L20: 40.5262 | M20: 304.95 | N20: =O20*1000/M20 -> 4.8813248 | O20: 1.48856 | P20: =O20*1000 -> 1488.56
... A24: 20 | B24: =B23+1 -> 19 | C24: 23.940484 | D24: 16.0125 | E24: 239.57722 | F24: 0.25496107 | G24: =E24*F24 -> 61.082865 | J24: 29.678 | K24: 27.6902 | L24: 20.3634 | M24: 299.533 | N24: =O24*1000/M24 -> 0.24229951 | O24: 0.0725767 | P24: =O24*1000 -> 72.5767
A25: 21 | B25: =B24+1 -> 20 | C25: 3.5403213 | D25: 13.200556 | E25: 236.18765 | F25: 0.076344462 | G25: =E25*F25 -> 18.031619 | J25: 12.7767 | K25: 11.9166 | L25: 18.4487 | M25: 288.141 | N25: 0 | O25: 0.0253315 | P25: =O25*1000 -> 25.3315
A26: 22 | B26: =B25+1 -> 21 | C26: 0 | D26: 10.841111 | E26: 118.97257 | F26: 0.00054112275 | G26: =E26*F26 -> 0.064378766 | J26: 0 | K26: 0 | L26: 0 | M26: 0 | N26: 0 | O26: 0 | P26: =O26*1000 -> 0
A27: 23 | B27: =B26+1 -> 22 | C27: 0 | D27: 9.6377779 | E27: 1.5046919 | F27: 0.00075491799 | G27: =E27*F27 -> 0.001135919 | J27: 0 | K27: 0 | L27: 0 | M27: 0 | N27: 0 | O27: 0 | P27: =O27*1000 -> 0

Sheet V3 module ds shadows
A1: June 7 2023 | C1: Measured | J1: SAM
C2: W/m2 | D2: deg C | E2: V | F2: A | G2: W | J2: W/m2 | K2: W/m2 | L2: deg C | M2: Varray | N2: A | O2: kW | P2: W
A3: Hour summer | B3: Hour winter | C3: Measured GPOA | D3: Measured Tmod_ref | E3: Measured Vpv_nss | F3: Measured Ipv_nss | G3: Measured Ppv_nss | J3: SAM GPOA | K3: SAM GPOA with shadows | L3: SAM Tarray | M3: SAM Varray | N3: SAM Iarray | O3: SAM Parray | P3: SAM Parray | AB3: Tilt | AC3: 15
A4: 0 | B4: 23 | C4: 0 | D4: 7.4741667 | E4: 0.15641423 | F4: 0.00075202849 | G4: =E4*F4 -> 0.00011762796 | J4: 0 | K4: 0 | L4: 0 | M4: 0 | N4: 0 | O4: 0 | P4: =O4*1000 -> 0 | AB4: Azimuth | AC4: 106 | AD4: -74
A5: 1 | B5: 0 | C5: 0 | D5: 6.5977778 | E5: 0.14945941 | F5: 0.00074905025 | G5: =E5*F5 -> 0.00011195261 | J5: 0 | K5: 0 | L5: 0 | M5: 0 | N5: 0 | O5: 0 | P5: =O5*1000 -> 0
A6: 2 | B6: =B5+1 -> 1 | C6: 0 | D6: 7.5524115 | E6: 0.39312303 | F6: 0.00074720843 | G6: =E6*F6 -> 0.00029374484 | J6: 0 | K6: 0 | L6: 0 | M6: 0 | N6: 0 | O6: 0 | P6: =O6*1000 -> 0
A7: 3 | B7: =B6+1 -> 2 | C7: 0 | D7: 7.4333333 | E7: 36.397505 | F7: 0.00061018533 | G7: =E7*F7 -> 0.022209223 | J7: 0 | K7: 0 | L7: 0 | M7: 0 | N7: 0 | O7: 0 | P7: =O7*1000 -> 0
A8: 4 | B8: =B7+1 -> 3 | C8: 1.2387509 | D8: 6.9077777 | E8: 251.53898 | F8: 0.0011675477 | G8: =E8*F8 -> 0.29368376 | J8: 0 | K8: 0 | L8: 0 | M8: 0 | N8: 0 | O8: 0 | P8: =O8*1000 -> 0
A9: 5 | B9: =B8+1 -> 4 | C9: 27.470738 | D9: 8.0894445 | E9: 265.02401 | F9: 0.2162392 | G9: =E9*F9 -> 57.30858 | J9: 55.438 | K9: 36.857 | L9: 13.9288 | M9: 306.69 | N9: =O9*1000/M9 -> 0.2024784 | O9: 0.0620981 | P9: =O9*1000 -> 62.0981
A10: 6 | B10: =B9+1 -> 5 | C10: 244.77359 | D10: 15.334444 | E10: 275.18854 | F10: 0.50030603 | G10: =E10*F10 -> 137.67849 | J10: 261.742 | K10: 150.134 | L10: 19.5297 | M10: 322.314 | N10: =O10*1000/M10 -> 1.2657036 | O10: 0.407954 | P10: =O10*1000 -> 407.954
A11: 7 | B11: =B10+1 -> 6 | C11: 463.24161 | D11: 29.06 | E11: 246.93468 | F11: 3.623069 | G11: =E11*F11 -> 894.66139 | J11: 442.117 | K11: 435.534 | L11: 29.5355 | M11: 318.775 | N11: =O11*1000/M11 -> 3.9355031 | O11: 1.25454 | P11: =O11*1000 -> 1254.54
A12: 8 | B12: =B11+1 -> 7 | C12: 628.21919 | D12: 37.864444 | E12: 241.69626 | F12: 5.7005653 | G12: =E12*F12 -> 1377.8053 | J12: 613.687 | K12: 606.557 | L12: 37.1585 | M12: 309.828 | N12: =O12*1000/M12 -> 5.4829454 | O12: 1.69877 | P12: =O12*1000 -> 1698.77
A13: 9 | B13: =B12+1 -> 8 | C13: 738.3936 | D13: 44.246945 | E13: 234.63401 | F13: 6.892305 | G13: =E13*F13 -> 1617.1691 | J13: 755.715 | K13: 747.948 | L13: 44.2144 | M13: 300.662 | N13: =O13*1000/M13 -> 6.7030087 | O13: 2.01534 | P13: =O13*1000 -> 2015.34
A14: 10 | B14: =B13+1 -> 9 | C14: 816.32397 | D14: 47.554444 | E14: 231.00498 | F14: 7.6776678 | G14: =E14*F14 -> 1773.5795 | J14: 857.171 | K14: 849.375 | L14: 47.19 | M14: 296.612 | N14: =O14*1000/M14 -> 7.552594 | O14: 2.24019 | P14: =O14*1000 -> 2240.19
A15: 11 | B15: =B14+1 -> 10 | C15: 855.08595 | D15: 51.367778 | E15: 226.98025 | F15: 8.0011189 | G15: =E15*F15 -> 1816.0959 | J15: 916.099 | K15: 908.236 | L15: 50.9611 | M15: 291.51 | N15: =O15*1000/M15 -> 8.0303249 | O15: 2.34092 | P15: =O15*1000 -> 2340.92
A16: 12 | B16: =B15+1 -> 11 | C16: 855.87129 | D16: 50.986111 | E16: 227.24521 | F16: 7.9696822 | G16: =E16*F16 -> 1811.0721 | J16: 931.451 | K16: 923.913 | L16: 49.4568 | M16: 293.442 | N16: =O16*1000/M16 -> 8.1406206 | O16: 2.3888 | P16: =O16*1000 -> 2388.8
A17: 13 | B17: =B16+1 -> 12 | C17: 800.74958 | D17: 51.048055 | E17: 227.88465 | F17: 7.4680859 | G17: =E17*F17 -> 1701.8622 | J17: 897.3 | K17: 890.086 | L17: 50.4218 | M17: 292.279 | N17: =O17*1000/M17 -> 7.8337137 | O17: 2.28963 | P17: =O17*1000 -> 2289.63
A18: 14 | B18: =B17+1 -> 13 | C18: 703.39582 | D18: 48.576111 | E18: 231.50387 | F18: 6.5912949 | G18: =E18*F18 -> 1525.9102 | J18: 817.736 | K18: 810.712 | L18: 49.3697 | M18: 293.819 | N18: =O18*1000/M18 -> 7.1405525 | O18: 2.09803 | P18: =O18*1000 -> 2098.03
A19: 15 | B19: =B18+1 -> 14 | C19: 583.20919 | D19: 42.665 | E19: 238.70599 | F19: 5.3758283 | G19: =E19*F19 -> 1283.2424 | J19: 696.89 | K19: 689.852 | L19: 44.2955 | M19: 300.494 | N19: =O19*1000/M19 -> 6.0901715 | O19: 1.83006 | P19: =O19*1000 -> 1830.06
A20: 16 | B20: =B19+1 -> 15 | C20: 446.64852 | D20: 36.838889 | E20: 243.47839 | F20: 4.008638 | G20: =E20*F20 -> 976.01675 | J20: 557.139 | K20: 550.548 | L20: 40.5262 | M20: 304.95 | N20: =O20*1000/M20 -> 4.8813248 | O20: 1.48856 | P20: =O20*1000 -> 1488.56
... A24: 20 | B24: =B23+1 -> 19 | C24: 23.940484 | D24: 16.0125 | E24: 239.57722 | F24: 0.25496107 | G24: =E24*F24 -> 61.082865 | J24: 29.678 | K24: 27.6902 | L24: 20.3634 | M24: 299.533 | N24: =O24*1000/M24 -> 0.24229951 | O24: 0.0725767 | P24: =O24*1000 -> 72.5767
A25: 21 | B25: =B24+1 -> 20 | C25: 3.5403213 | D25: 13.200556 | E25: 236.18765 | F25: 0.076344462 | G25: =E25*F25 -> 18.031619 | J25: 12.7767 | K25: 11.9166 | L25: 18.4487 | M25: 288.141 | N25: 0 | O25: 0.0253315 | P25: =O25*1000 -> 25.3315
A26: 22 | B26: =B25+1 -> 21 | C26: 0 | D26: 10.841111 | E26: 118.97257 | F26: 0.00054112275 | G26: =E26*F26 -> 0.064378766 | J26: 0 | K26: 0 | L26: 0 | M26: 0 | N26: 0 | O26: 0 | P26: =O26*1000 -> 0
A27: 23 | B27: =B26+1 -> 22 | C27: 0 | D27: 9.6377779 | E27: 1.5046919 | F27: 0.00075491799 | G27: =E27*F27 -> 0.001135919 | J27: 0 | K27: 0 | L27: 0 | M27: 0 | N27: 0 | O27: 0 | P27: =O27*1000 -> 0

Sheet V2 module ds shadows
A1: June 7 2023 | C1: Measured | J1: SAM
C2: W/m2 | D2: deg C | E2: V | F2: A | G2: W | J2: W/m2 | K2: W/m2 | L2: deg C | M2: Varray | N2: A | O2: kW | P2: W
A3: Hour summer | B3: Hour winter | C3: Measured GPOA | D3: Measured Tmod_ref | E3: Measured Vpv_nss | F3: Measured Ipv_nss | G3: Measured Ppv_nss | J3: SAM GPOA | K3: SAM GPOA with shadows | L3: SAM Tarray | M3: SAM Varray | N3: SAM Iarray | O3: SAM Parray | P3: SAM Parray | AB3: Tilt | AC3: 15.6
A4: 0 | B4: 23 | C4: 0 | D4: 7.4741667 | E4: 0.15641423 | F4: 0.00075202849 | G4: =E4*F4 -> 0.00011762796 | J4: 0 | K4: 0 | L4: 0 | M4: 0 | N4: 0 | O4: 0 | P4: =O4*1000 -> 0 | AB4: Azimuth | AC4: 106 | AD4: -74
A5: 1 | B5: 0 | C5: 0 | D5: 6.5977778 | E5: 0.14945941 | F5: 0.00074905025 | G5: =E5*F5 -> 0.00011195261 | J5: 0 | K5: 0 | L5: 0 | M5: 0 | N5: 0 | O5: 0 | P5: =O5*1000 -> 0
A6: 2 | B6: =B5+1 -> 1 | C6: 0 | D6: 7.5524115 | E6: 0.39312303 | F6: 0.00074720843 | G6: =E6*F6 -> 0.00029374484 | J6: 0 | K6: 0 | L6: 0 | M6: 0 | N6: 0 | O6: 0 | P6: =O6*1000 -> 0
A7: 3 | B7: =B6+1 -> 2 | C7: 0 | D7: 7.4333333 | E7: 36.397505 | F7: 0.00061018533 | G7: =E7*F7 -> 0.022209223 | J7: 0 | K7: 0 | L7: 0 | M7: 0 | N7: 0 | O7: 0 | P7: =O7*1000 -> 0
A8: 4 | B8: =B7+1 -> 3 | C8: 1.2387509 | D8: 6.9077777 | E8: 251.53898 | F8: 0.0011675477 | G8: =E8*F8 -> 0.29368376 | J8: 0 | K8: 0 | L8: 0 | M8: 0 | N8: 0 | O8: 0 | P8: =O8*1000 -> 0
A9: 5 | B9: =B8+1 -> 4 | C9: 27.470738 | D9: 8.0894445 | E9: 265.02401 | F9: 0.2162392 | G9: =E9*F9 -> 57.30858 | J9: 55.438 | K9: 37.4909 | L9: 13.946 | M9: 306.857 | N9: =O9*1000/M9 -> 0.20536113 | O9: 0.0630165 | P9: =O9*1000 -> 63.0165
A10: 6 | B10: =B9+1 -> 5 | C10: 244.77359 | D10: 15.334444 | E10: 275.18854 | F10: 0.50030603 | G10: =E10*F10 -> 137.67849 | J10: 261.742 | K10: 150.727 | L10: 19.5481 | M10: 322.336 | N10: =O10*1000/M10 -> 1.2707237 | O10: 0.4096 | P10: =O10*1000 -> 409.6
A11: 7 | B11: =B10+1 -> 6 | C11: 463.24161 | D11: 29.06 | E11: 246.93468 | F11: 3.623069 | G11: =E11*F11 -> 894.66139 | J11: 442.117 | K11: 435.942 | L11: 29.5476 | M11: 318.76 | N11: =O11*1000/M11 -> 3.9391705 | O11: 1.25565 | P11: =O11*1000 -> 1255.65
A12: 8 | B12: =B11+1 -> 7 | C12: 628.21919 | D12: 37.864444 | E12: 241.69626 | F12: 5.7005653 | G12: =E12*F12 -> 1377.8053 | J12: 613.687 | K12: 606.998 | L12: 37.1722 | M12: 309.813 | N12: =O12*1000/M12 -> 5.4868259 | O12: 1.69989 | P12: =O12*1000 -> 1699.89
A13: 9 | B13: =B12+1 -> 8 | C13: 738.3936 | D13: 44.246945 | E13: 234.63401 | F13: 6.892305 | G13: =E13*F13 -> 1617.1691 | J13: 755.715 | K13: 748.429 | L13: 44.2296 | M13: 300.642 | N13: =O13*1000/M13 -> 6.7072132 | O13: 2.01647 | P13: =O13*1000 -> 2016.47
A14: 10 | B14: =B13+1 -> 9 | C14: 816.32397 | D14: 47.554444 | E14: 231.00498 | F14: 7.6776678 | G14: =E14*F14 -> 1773.5795 | J14: 857.171 | K14: 849.857 | L14: 47.2044 | M14: 296.583 | N14: =O14*1000/M14 -> 7.5569739 | O14: 2.24127 | P14: =O14*1000 -> 2241.27
A15: 11 | B15: =B14+1 -> 10 | C15: 855.08595 | D15: 51.367778 | E15: 226.98025 | F15: 8.0011189 | G15: =E15*F15 -> 1816.0959 | J15: 916.099 | K15: 908.723 | L15: 50.976 | M15: 291.486 | N15: =O15*1000/M15 -> 8.0345883 | O15: 2.34197 | P15: =O15*1000 -> 2341.97
A16: 12 | B16: =B15+1 -> 11 | C16: 855.87129 | D16: 50.986111 | E16: 227.24521 | F16: 7.9696822 | G16: =E16*F16 -> 1811.0721 | J16: 931.451 | K16: 923.891 | L16: 49.4561 | M16: 293.442 | N16: =O16*1000/M16 -> 8.1403139 | O16: 2.38871 | P16: =O16*1000 -> 2388.71
A17: 13 | B17: =B16+1 -> 12 | C17: 800.74958 | D17: 51.048055 | E17: 227.88465 | F17: 7.4680859 | G17: =E17*F17 -> 1701.8622 | J17: 897.3 | K17: 886.436 | L17: 50.3156 | M17: 292.428 | N17: =O17*1000/M17 -> 7.8014759 | O17: 2.28137 | P17: =O17*1000 -> 2281.37
A18: 14 | B18: =B17+1 -> 13 | C18: 703.39582 | D18: 48.576111 | E18: 231.50387 | F18: 6.5912949 | G18: =E18*F18 -> 1525.9102 | J18: 817.736 | K18: 811.147 | L18: 49.3823 | M18: 293.805 | N18: =O18*1000/M18 -> 7.1441943 | O18: 2.099 | P18: =O18*1000 -> 2099
A19: 15 | B19: =B18+1 -> 14 | C19: 583.20919 | D19: 42.665 | E19: 238.70599 | F19: 5.3758283 | G19: =E19*F19 -> 1283.2424 | J19: 696.89 | K19: 690.287 | L19: 44.3081 | M19: 300.489 | N19: =O19*1000/M19 -> 6.0937006 | O19: 1.83109 | P19: =O19*1000 -> 1831.09
A20: 16 | B20: =B19+1 -> 15 | C20: 446.64852 | D20: 36.838889 | E20: 243.47839 | F20: 4.008638 | G20: =E20*F20 -> 976.01675 | J20: 557.139 | K20: 550.956 | L20: 40.5384 | M20: 304.939 | N20: =O20*1000/M20 -> 4.884813 | O20: 1.48957 | P20: =O20*1000 -> 1489.57
... A24: 20 | B24: =B23+1 -> 19 | C24: 23.940484 | D24: 16.0125 | E24: 239.57722 | F24: 0.25496107 | G24: =E24*F24 -> 61.082865 | J24: 29.678 | K24: 27.8133 | L24: 20.3673 | M24: 299.599 | N24: =O24*1000/M24 -> 0.24337431 | O24: 0.0729147 | P24: =O24*1000 -> 72.9147
A25: 21 | B25: =B24+1 -> 20 | C25: 3.5403213 | D25: 13.200556 | E25: 236.18765 | F25: 0.076344462 | G25: =E25*F25 -> 18.031619 | J25: 12.7767 | K25: 11.9699 | L25: 18.4504 | M25: 288.202 | N25: 0 | O25: 0.0254504 | P25: =O25*1000 -> 25.4504
A26: 22 | B26: =B25+1 -> 21 | C26: 0 | D26: 10.841111 | E26: 118.97257 | F26: 0.00054112275 | G26: =E26*F26 -> 0.064378766 | J26: 0 | K26: 0 | L26: 0 | M26: 0 | N26: 0 | O26: 0 | P26: =O26*1000 -> 0
A27: 23 | B27: =B26+1 -> 22 | C27: 0 | D27: 9.6377779 | E27: 1.5046919 | F27: 0.00075491799 | G27: =E27*F27 -> 0.001135919 | J27: 0 | K27: 0 | L27: 0 | M27: 0 | N27: 0 | O27: 0 | P27: =O27*1000 -> 0

Sheet V1 module db shadows
A1: June 7 2023 | C1: Measured | J1: SAM
C2: W/m2 | D2: deg C | E2: V | F2: A | G2: W | J2: W/m2 | K2: W/m2 | L2: deg C | M2: Varray | N2: A | O2: kW | P2: W
A3: Hour summer | B3: Hour winter | C3: Measured GPOA | D3: Measured Tmod_ref | E3: Measured Vpv_nss | F3: Measured Ipv_nss | G3: Measured Ppv_nss | J3: SAM GPOA | K3: SAM GPOA with shadows | L3: SAM Tarray | M3: SAM Varray | N3: SAM Iarray | O3: SAM Parray | P3: SAM Parray
A4: 0 | B4: 23 | C4: 0 | D4: 7.4741667 | E4: 0.15641423 | F4: 0.00075202849 | G4: =E4*F4 -> 0.00011762796 | J4: 0 | K4: 0 | L4: 0 | M4: 0 | N4: 0 | O4: 0 | P4: =O4*1000 -> 0 | R4: Tilt | S4: 15.6
A5: 1 | B5: 0 | C5: 0 | D5: 6.5977778 | E5: 0.14945941 | F5: 0.00074905025 | G5: =E5*F5 -> 0.00011195261 | J5: 0 | K5: 0 | L5: 0 | M5: 0 | N5: 0 | O5: 0 | P5: =O5*1000 -> 0 | R5: Azimuth | S5: 106 | T5: -74
A6: 2 | B6: =B5+1 -> 1 | C6: 0 | D6: 7.5524115 | E6: 0.39312303 | F6: 0.00074720843 | G6: =E6*F6 -> 0.00029374484 | J6: 0 | K6: 0 | L6: 0 | M6: 0 | N6: 0 | O6: 0 | P6: =O6*1000 -> 0
A7: 3 | B7: =B6+1 -> 2 | C7: 0 | D7: 7.4333333 | E7: 36.397505 | F7: 0.00061018533 | G7: =E7*F7 -> 0.022209223 | J7: 0 | K7: 0 | L7: 0 | M7: 0 | N7: 0 | O7: 0 | P7: =O7*1000 -> 0
A8: 4 | B8: =B7+1 -> 3 | C8: 1.2387509 | D8: 6.9077777 | E8: 251.53898 | F8: 0.0011675477 | G8: =E8*F8 -> 0.29368376 | J8: 0 | K8: 0 | L8: 0 | M8: 0 | N8: 0 | O8: 0 | P8: =O8*1000 -> 0
A9: 5 | B9: =B8+1 -> 4 | C9: 27.470738 | D9: 8.0894445 | E9: 265.02401 | F9: 0.2162392 | G9: =E9*F9 -> 57.30858 | J9: 55.438 | K9: 37.4909 | L9: 14.0287 | M9: 306.143 | N9: =O9*1000/M9 -> 0.20870541 | O9: 0.0638937 | P9: =O9*1000 -> 63.8937
A10: 6 | B10: =B9+1 -> 5 | C10: 244.77359 | D10: 15.334444 | E10: 275.18854 | F10: 0.50030603 | G10: =E10*F10 -> 137.67849 | J10: 261.742 | K10: 150.727 | L10: 19.8956 | M10: 320.798 | N10: =O10*1000/M10 -> 1.2924177 | O10: 0.414605 | P10: =O10*1000 -> 414.605
A11: 7 | B11: =B10+1 -> 6 | C11: 463.24161 | D11: 29.06 | E11: 246.93468 | F11: 3.623069 | G11: =E11*F11 -> 894.66139 | J11: 442.117 | K11: 435.942 | L11: 30.5216 | M11: 314.869 | N11: =O11*1000/M11 -> 4.0056023 | O11: 1.26124 | P11: =O11*1000 -> 1261.24
A12: 8 | B12: =B11+1 -> 7 | C12: 628.21919 | D12: 37.864444 | E12: 241.69626 | F12: 5.7005653 | G12: =E12*F12 -> 1377.8053 | J12: 613.687 | K12: 606.998 | L12: 38.5819 | M12: 304.4 | N12: =O12*1000/M12 -> 5.5762812 | O12: 1.69742 | P12: =O12*1000 -> 1697.42
A13: 9 | B13: =B12+1 -> 8 | C13: 738.3936 | D13: 44.246945 | E13: 234.63401 | F13: 6.892305 | G13: =E13*F13 -> 1617.1691 | J13: 755.715 | K13: 748.429 | L13: 45.9986 | M13: 293.998 | N13: =O13*1000/M13 -> 6.8122912 | O13: 2.0028 | P13: =O13*1000 -> 2002.8
A14: 10 | B14: =B13+1 -> 9 | C14: 816.32397 | D14: 47.554444 | E14: 231.00498 | F14: 7.6776678 | G14: =E14*F14 -> 1773.5795 | J14: 857.171 | K14: 849.857 | L14: 49.1072 | M14: 289.301 | N14: =O14*1000/M14 -> 7.6723205 | O14: 2.21961 | P14: =O14*1000 -> 2219.61
A15: 11 | B15: =B14+1 -> 10 | C15: 855.08595 | D15: 51.367778 | E15: 226.98025 | F15: 8.0011189 | G15: =E15*F15 -> 1816.0959 | J15: 916.099 | K15: 908.723 | L15: 53.0563 | M15: 283.664 | N15: =O15*1000/M15 -> 8.1539074 | O15: 2.31297 | P15: =O15*1000 -> 2312.97
A16: 12 | B16: =B15+1 -> 11 | C16: 855.87129 | D16: 50.986111 | E16: 227.24521 | F16: 7.9696822 | G16: =E16*F16 -> 1811.0721 | J16: 931.451 | K16: 923.891 | L16: 51.388 | M16: 285.789 | N16: =O16*1000/M16 -> 8.2623894 | O16: 2.3613 | P16: =O16*1000 -> 2361.3
A17: 13 | B17: =B16+1 -> 12 | C17: 800.74958 | D17: 51.048055 | E17: 227.88465 | F17: 7.4680859 | G17: =E17*F17 -> 1701.8622 | J17: 897.3 | K17: 886.436 | L17: 52.2361 | M17: 284.945 | N17: =O17*1000/M17 -> 7.9181246 | O17: 2.25623 | P17: =O17*1000 -> 2256.23
A18: 14 | B18: =B17+1 -> 13 | C18: 703.39582 | D18: 48.576111 | E18: 231.50387 | F18: 6.5912949 | G18: =E18*F18 -> 1525.9102 | J18: 817.736 | K18: 811.147 | L18: 51.1561 | M18: 286.837 | N18: =O18*1000/M18 -> 7.2527603 | O18: 2.08036 | P18: =O18*1000 -> 2080.36
A19: 15 | B19: =B18+1 -> 14 | C19: 583.20919 | D19: 42.665 | E19: 238.70599 | F19: 5.3758283 | G19: =E19*F19 -> 1283.2424 | J19: 696.89 | K19: 690.287 | L19: 45.8153 | M19: 294.476 | N19: =O19*1000/M19 -> 6.1899442 | O19: 1.82279 | P19: =O19*1000 -> 1822.79
A20: 16 | B20: =B19+1 -> 15 | C20: 446.64852 | D20: 36.838889 | E20: 243.47839 | F20: 4.008638 | G20: =E20*F20 -> 976.01675 | J20: 557.139 | K20: 550.956 | L20: 41.7765 | M20: 299.955 | N20: =O20*1000/M20 -> 4.9638446 | O20: 1.48893 | P20: =O20*1000 -> 1488.93
... A24: 20 | B24: =B23+1 -> 19 | C24: 23.940484 | D24: 16.0125 | E24: 239.57722 | F24: 0.25496107 | G24: =E24*F24 -> 61.082865 | J24: 29.678 | K24: 27.8133 | L24: 20.4336 | M24: 298.709 | N24: =O24*1000/M24 -> 0.24729553 | O24: 0.0738694 | P24: =O24*1000 -> 73.8694
A25: 21 | B25: =B24+1 -> 20 | C25: 3.5403213 | D25: 13.200556 | E25: 236.18765 | F25: 0.076344462 | G25: =E25*F25 -> 18.031619 | J25: 12.7767 | K25: 11.9699 | L25: 18.4796 | M25: 287.345 | N25: 0 | O25: 0.0257695 | P25: =O25*1000 -> 25.7695
A26: 22 | B26: =B25+1 -> 21 | C26: 0 | D26: 10.841111 | E26: 118.97257 | F26: 0.00054112275 | G26: =E26*F26 -> 0.064378766 | J26: 0 | K26: 0 | L26: 0 | M26: 0 | N26: 0 | O26: 0 | P26: =O26*1000 -> 0
A27: 23 | B27: =B26+1 -> 22 | C27: 0 | D27: 9.6377779 | E27: 1.5046919 | F27: 0.00075491799 | G27: =E27*F27 -> 0.001135919 | J27: 0 | K27: 0 | L27: 0 | M27: 0 | N27: 0 | O27: 0 | P27: =O27*1000 -> 0
